BEGIN:VCALENDAR
VERSION:2.0
PRODID:-//ChamberMaster//Event Calendar 2.0//EN
METHOD:PUBLISH
X-PUBLISHED-TTL:P3D
REFRESH-INTERVAL:P3D
CALSCALE:GREGORIAN
BEGIN:VEVENT
DTSTART:20251015T153000Z
DTEND:20251015T170000Z
X-MICROSOFT-CDO-ALLDAYEVENT:FALSE
SUMMARY:Using Artificial Intelligence in Your Small Business
DESCRIPTION:Discover how businesses are harnessing the power of Artificial Intelligence (AI) to accelerate growth and efficiency. \n\n\n\nThis workshop introduces essential AI tools and strategies\, including how to create effective prompts and apply AI across operations and marketing.
X-ALT-DESC;FMTTYPE=text/html:<span style="font-family:verdana\,sans-serif\;">Discover how businesses are harnessing the power of Artificial Intelligence (AI) to accelerate growth and efficiency.&nbsp\;</span><br />\n<br />\n<span style="font-family:verdana\,sans-serif\;">This&nbsp\;workshop introduces essential AI tools and strategies\, including how to create effective prompts and apply AI across operations and marketing.</span>
LOCATION:Glenview Public Library Community Room West
UID:e.434.11507
SEQUENCE:3
DTSTAMP:20260424T040056Z
URL:http://glenviewchamber.chambermaster.com/events/details/using-artificial-intelligence-in-your-small-business-11507
END:VEVENT

END:VCALENDAR
